BEGIN:VCALENDAR
VERSION:2.0
PRODID:-//Big Bottom Missionary Baptist Church - ECPv6.15.20//NONSGML v1.0//EN
CALSCALE:GREGORIAN
METHOD:PUBLISH
X-ORIGINAL-URL:https://bigbottombaptist.com
X-WR-CALDESC:Events for Big Bottom Missionary Baptist Church
REFRESH-INTERVAL;VALUE=DURATION:PT1H
X-Robots-Tag:noindex
X-PUBLISHED-TTL:PT1H
BEGIN:VTIMEZONE
TZID:America/New_York
BEGIN:DAYLIGHT
TZOFFSETFROM:-0500
TZOFFSETTO:-0400
TZNAME:EDT
DTSTART:20240310T070000
END:DAYLIGHT
BEGIN:STANDARD
TZOFFSETFROM:-0400
TZOFFSETTO:-0500
TZNAME:EST
DTSTART:20241103T060000
END:STANDARD
BEGIN:DAYLIGHT
TZOFFSETFROM:-0500
TZOFFSETTO:-0400
TZNAME:EDT
DTSTART:20250309T070000
END:DAYLIGHT
BEGIN:STANDARD
TZOFFSETFROM:-0400
TZOFFSETTO:-0500
TZNAME:EST
DTSTART:20251102T060000
END:STANDARD
BEGIN:DAYLIGHT
TZOFFSETFROM:-0500
TZOFFSETTO:-0400
TZNAME:EDT
DTSTART:20260308T070000
END:DAYLIGHT
BEGIN:STANDARD
TZOFFSETFROM:-0400
TZOFFSETTO:-0500
TZNAME:EST
DTSTART:20261101T060000
END:STANDARD
END:VTIMEZONE
BEGIN:VTIMEZONE
TZID:UTC
BEGIN:STANDARD
TZOFFSETFROM:+0000
TZOFFSETTO:+0000
TZNAME:UTC
DTSTART:20240101T000000
END:STANDARD
END:VTIMEZONE
BEGIN:VEVENT
DTSTART;VALUE=DATE:20250928
DTEND;VALUE=DATE:20251002
DTSTAMP:20260424T032244
CREATED:20250815T004038Z
LAST-MODIFIED:20250921T153227Z
UID:25906-1759017600-1759363199@bigbottombaptist.com
SUMMARY:Homecoming
DESCRIPTION:Homecoming Services: \nSunday – Fred Christian 11am (No evening service) \nMonday – Mike Long 7pm \nTuesday – Grant Garber 7pm \nWednesday – Nathaniel Messinger 7pm
URL:https://bigbottombaptist.com/event/homecoming/
LOCATION:Big Bottom Missionary Baptist Church\, 1259 Campbells Creek Dr\, Charleston\, WV\, 25306\, United States
CATEGORIES:Church Event
ATTACH;FMTTYPE=image/png:https://bigbottombaptist.com/wp-content/uploads/2025/08/Homecoming-2.png
ORGANIZER;CN="Big Bottom Missionary Baptist Church":MAILTO:office@bigbottombaptist.com
END:VEVENT
BEGIN:VEVENT
DTSTART;TZID=America/New_York:20251004T130000
DTEND;TZID=America/New_York:20251004T150000
DTSTAMP:20260424T032244
CREATED:20250921T155052Z
LAST-MODIFIED:20250921T155240Z
UID:26305-1759582800-1759590000@bigbottombaptist.com
SUMMARY:Kristin & Hayden Elliott Baby Shower
DESCRIPTION:Please let Kristin or Paula know if you plan to attend. Link to their registry is below. \n  \nhttps://my.babylist.com/kristin-elliott-baby-reg
URL:https://bigbottombaptist.com/event/kristin-hayden-elliott-baby-shower/
LOCATION:Big Bottom Missionary Baptist Church\, 1259 Campbells Creek Dr\, Charleston\, WV\, 25306\, United States
ATTACH;FMTTYPE=image/jpeg:https://bigbottombaptist.com/wp-content/uploads/2025/09/Beige-Watercolor-Modern-Baby-Shower-Invitation.jpeg
END:VEVENT
BEGIN:VEVENT
DTSTART;TZID=America/New_York:20251014T180000
DTEND;TZID=America/New_York:20251014T190000
DTSTAMP:20260424T032244
CREATED:20250921T153728Z
LAST-MODIFIED:20250921T153947Z
UID:26302-1760464800-1760468400@bigbottombaptist.com
SUMMARY:Ladies Paint Party
DESCRIPTION:
URL:https://bigbottombaptist.com/event/ladies-paint-party/
LOCATION:Big Bottom Missionary Baptist Church\, 1259 Campbells Creek Dr\, Charleston\, WV\, 25306\, United States
CATEGORIES:Church Event
ATTACH;FMTTYPE=image/jpeg:https://bigbottombaptist.com/wp-content/uploads/2025/09/Yellow-Red-Brown-Simple-Colorful-Fun-Painting-Workshop-Flyer.jpeg
ORGANIZER;CN="Big Bottom Missionary Baptist Church":MAILTO:office@bigbottombaptist.com
END:VEVENT
BEGIN:VEVENT
DTSTART;VALUE=DATE:20251018
DTEND;VALUE=DATE:20251019
DTSTAMP:20260424T032244
CREATED:20251005T211604Z
LAST-MODIFIED:20251005T211604Z
UID:26320-1760745600-1760831999@bigbottombaptist.com
SUMMARY:Food Pantry
DESCRIPTION:
URL:https://bigbottombaptist.com/event/food-pantry/
LOCATION:Big Bottom Missionary Baptist Church\, 1259 Campbells Creek Dr\, Charleston\, WV\, 25306\, United States
CATEGORIES:Church Event
ATTACH;FMTTYPE=image/png:https://bigbottombaptist.com/wp-content/uploads/2025/10/Food-Pantry.png
ORGANIZER;CN="Big Bottom Missionary Baptist Church":MAILTO:office@bigbottombaptist.com
END:VEVENT
END:VCALENDAR