BEGIN:VCALENDAR
VERSION:2.0
PRODID:-//Big Bottom Missionary Baptist Church - ECPv6.15.20//NONSGML v1.0//EN
CALSCALE:GREGORIAN
METHOD:PUBLISH
X-ORIGINAL-URL:https://bigbottombaptist.com
X-WR-CALDESC:Events for Big Bottom Missionary Baptist Church
REFRESH-INTERVAL;VALUE=DURATION:PT1H
X-Robots-Tag:noindex
X-PUBLISHED-TTL:PT1H
BEGIN:VTIMEZONE
TZID:UTC
BEGIN:STANDARD
TZOFFSETFROM:+0000
TZOFFSETTO:+0000
TZNAME:UTC
DTSTART:20240101T000000
END:STANDARD
END:VTIMEZONE
BEGIN:VTIMEZONE
TZID:America/New_York
BEGIN:DAYLIGHT
TZOFFSETFROM:-0500
TZOFFSETTO:-0400
TZNAME:EDT
DTSTART:20240310T070000
END:DAYLIGHT
BEGIN:STANDARD
TZOFFSETFROM:-0400
TZOFFSETTO:-0500
TZNAME:EST
DTSTART:20241103T060000
END:STANDARD
BEGIN:DAYLIGHT
TZOFFSETFROM:-0500
TZOFFSETTO:-0400
TZNAME:EDT
DTSTART:20250309T070000
END:DAYLIGHT
BEGIN:STANDARD
TZOFFSETFROM:-0400
TZOFFSETTO:-0500
TZNAME:EST
DTSTART:20251102T060000
END:STANDARD
BEGIN:DAYLIGHT
TZOFFSETFROM:-0500
TZOFFSETTO:-0400
TZNAME:EDT
DTSTART:20260308T070000
END:DAYLIGHT
BEGIN:STANDARD
TZOFFSETFROM:-0400
TZOFFSETTO:-0500
TZNAME:EST
DTSTART:20261101T060000
END:STANDARD
END:VTIMEZONE
BEGIN:VEVENT
DTSTART;TZID=UTC:20251221T100000
DTEND;TZID=UTC:20251221T120000
DTSTAMP:20260424T000139
CREATED:20251117T000028Z
LAST-MODIFIED:20251117T000028Z
UID:26331-1766311200-1766318400@bigbottombaptist.com
SUMMARY:Christmas Sunday Service
DESCRIPTION:
URL:https://bigbottombaptist.com/event/christmas-sunday-service/
LOCATION:Big Bottom Missionary Baptist Church\, 1259 Campbells Creek Dr\, Charleston\, WV\, 25306\, United States
CATEGORIES:Christmas,Church Event
ATTACH;FMTTYPE=image/png:https://bigbottombaptist.com/wp-content/uploads/2025/11/Baby-Blue-Illustrative-Watercolor-Christmas-Nativity-Scene-Instagram-Post.png
ORGANIZER;CN="Big Bottom Missionary Baptist Church":MAILTO:office@bigbottombaptist.com
END:VEVENT
BEGIN:VEVENT
DTSTART;TZID=America/New_York:20251223T190000
DTEND;TZID=America/New_York:20251223T200000
DTSTAMP:20260424T000139
CREATED:20251116T235510Z
LAST-MODIFIED:20251116T235510Z
UID:26328-1766516400-1766520000@bigbottombaptist.com
SUMMARY:Christmas Mid-Week Service
DESCRIPTION:
URL:https://bigbottombaptist.com/event/christmas-mid-week-service/
LOCATION:Big Bottom Missionary Baptist Church\, 1259 Campbells Creek Dr\, Charleston\, WV\, 25306\, United States
CATEGORIES:Christmas,Church Event
ATTACH;FMTTYPE=image/png:https://bigbottombaptist.com/wp-content/uploads/2025/11/White-and-Red-Classic-Photo-centric-New-Year-Facebook-Post.png
ORGANIZER;CN="Big Bottom Missionary Baptist Church":MAILTO:office@bigbottombaptist.com
END:VEVENT
END:VCALENDAR