BEGIN:VCALENDAR
VERSION:2.0
PRODID:-//Big Bottom Missionary Baptist Church - ECPv6.15.20//NONSGML v1.0//EN
CALSCALE:GREGORIAN
METHOD:PUBLISH
X-WR-CALNAME:Big Bottom Missionary Baptist Church
X-ORIGINAL-URL:https://bigbottombaptist.com
X-WR-CALDESC:Events for Big Bottom Missionary Baptist Church
REFRESH-INTERVAL;VALUE=DURATION:PT1H
X-Robots-Tag:noindex
X-PUBLISHED-TTL:PT1H
BEGIN:VTIMEZONE
TZID:UTC
BEGIN:STANDARD
TZOFFSETFROM:+0000
TZOFFSETTO:+0000
TZNAME:UTC
DTSTART:20250101T000000
END:STANDARD
END:VTIMEZONE
BEGIN:VEVENT
DTSTART;VALUE=DATE:20260215
DTEND;VALUE=DATE:20260216
DTSTAMP:20260423T231939
CREATED:20251228T221150Z
LAST-MODIFIED:20251228T221401Z
UID:26350-1771113600-1771199999@bigbottombaptist.com
SUMMARY:Sanctity of Life Sunday
DESCRIPTION:
URL:https://bigbottombaptist.com/event/sanctity-of-life-sunday/
LOCATION:Big Bottom Missionary Baptist Church\, 1259 Campbells Creek Dr\, Charleston\, WV\, 25306\, United States
CATEGORIES:Church Event
ATTACH;FMTTYPE=image/png:https://bigbottombaptist.com/wp-content/uploads/2025/12/Sanctity-of-Life-Sunday.png
ORGANIZER;CN="Big Bottom Missionary Baptist Church":MAILTO:office@bigbottombaptist.com
END:VEVENT
END:VCALENDAR